BEGIN:VCALENDAR
VERSION:2.0
PRODID:-//Cursus Smartphone Fotografie | Workshop met je telefoon leren fotograferen - ECPv6.15.20//NONSGML v1.0//EN
CALSCALE:GREGORIAN
METHOD:PUBLISH
X-WR-CALNAME:Cursus Smartphone Fotografie | Workshop met je telefoon leren fotograferen
X-ORIGINAL-URL:https://eckkies.nl
X-WR-CALDESC:Evenementen voor Cursus Smartphone Fotografie | Workshop met je telefoon leren fotograferen
REFRESH-INTERVAL;VALUE=DURATION:PT1H
X-Robots-Tag:noindex
X-PUBLISHED-TTL:PT1H
BEGIN:VTIMEZONE
TZID:Europe/Amsterdam
BEGIN:DAYLIGHT
TZOFFSETFROM:+0100
TZOFFSETTO:+0200
TZNAME:CEST
DTSTART:20250330T010000
END:DAYLIGHT
BEGIN:STANDARD
TZOFFSETFROM:+0200
TZOFFSETTO:+0100
TZNAME:CET
DTSTART:20251026T010000
END:STANDARD
BEGIN:DAYLIGHT
TZOFFSETFROM:+0100
TZOFFSETTO:+0200
TZNAME:CEST
DTSTART:20260329T010000
END:DAYLIGHT
BEGIN:STANDARD
TZOFFSETFROM:+0200
TZOFFSETTO:+0100
TZNAME:CET
DTSTART:20261025T010000
END:STANDARD
BEGIN:DAYLIGHT
TZOFFSETFROM:+0100
TZOFFSETTO:+0200
TZNAME:CEST
DTSTART:20270328T010000
END:DAYLIGHT
BEGIN:STANDARD
TZOFFSETFROM:+0200
TZOFFSETTO:+0100
TZNAME:CET
DTSTART:20271031T010000
END:STANDARD
END:VTIMEZONE
BEGIN:VEVENT
DTSTART;TZID=Europe/Amsterdam:20260718T100000
DTEND;TZID=Europe/Amsterdam:20260718T130000
DTSTAMP:20260420T160338
CREATED:20260416T095422Z
LAST-MODIFIED:20260416T095422Z
UID:16856-1784368800-1784379600@eckkies.nl
SUMMARY:Workshop in smartphonefotografie Broekerveiling
DESCRIPTION:Leer de beste foto’s te maken met jouw smartphone in het prachtige Museum Broekerveiling. Eerst een stukje theorie\, waarna we naar buiten gaan en het geleerde direct in de praktijk gaan brengen in de unieke omgeving. Leer in pakweg 3 uur hoe je jouw smartphone optimaal kan instellen en leer waar de verschillende functies voor dienen. Duidelijke taal aan de hand van vele voorbeelden. Je gaat het zelf ook uitproberen met persoonlijke begeleiding. \nDeze workshop wordt gegeven in het buitenmuseum op een bijzondere plek en is naast theorie ook direct een praktijkles. Geschikt voor IOS- en Android-toestellen. Deelname € 47\,50 per persoon\, inclusief toegangsticket! En natuurlijk een heerlijk kopje koffie of thee. Direct aanmelden. \nMeer weten over deze workshop?  Klik dan HIER.
URL:https://eckkies.nl/event/workshop-in-smartphonefotografie-broekerveiling/
LOCATION:Museum Broekerveiling\, Museumweg 2\, Broek op Langedijk\, Noord-Holland\, 1721 BW\, Netherlands
CATEGORIES:workshop
ATTACH;FMTTYPE=image/jpeg:https://eckkies.nl/wp-content/uploads/2025/05/12-tips-voor-smartphonefotografie-eckkies.jpg
ORGANIZER;CN="Eckkies.NL":MAILTO:fred@eckkies.nl
END:VEVENT
END:VCALENDAR